BEGIN:VCALENDAR
PRODID:-//eluceo/ical//2.0/EN
VERSION:2.0
CALSCALE:GREGORIAN
BEGIN:VEVENT
UID:e4e99cdb21830272b3d18ae6ac738eb6
DTSTAMP:20260425T154611Z
SUMMARY:Spatzenessen (SG Densbüren-Asp)
DESCRIPTION:https://www.sg-kuettigen.ch/kirchberg-schuetzenverband/kalender
 /spatzenessen-sg-densbueren-asp
DTSTART:20230827T110000
DTEND:20230827T180000
LOCATION:Asp\, Dorfplatz\, Dorfstrasse 26\, 5025 Asp
ORGANIZER;CN=Schützengesellschaft Küttigen:mailto:info@sg-kuettigen.ch
END:VEVENT
END:VCALENDAR
