BEGIN:VCALENDAR
PRODID:-//eluceo/ical//2.0/EN
VERSION:2.0
CALSCALE:GREGORIAN
BEGIN:VEVENT
UID:2e233ddf1838c73a4ed9cd92ce004054
DTSTAMP:20260425T154054Z
SUMMARY:Herbschtmärt (SG Densbüren-Asp)
DESCRIPTION:https://www.sg-kuettigen.ch/kirchberg-schuetzenverband/kalender
 /herbschtmaert-sg-densbueren-asp
DTSTART:20231014T093000
DTEND:20231014T180000
LOCATION:Densbüren\, Dorfplatz\, Dorfplatz\, 5026 Densbüren
ORGANIZER;CN=Schützengesellschaft Küttigen:mailto:info@sg-kuettigen.ch
END:VEVENT
END:VCALENDAR
