BEGIN:VCALENDAR
PRODID:-//eluceo/ical//2.0/EN
VERSION:2.0
CALSCALE:GREGORIAN
BEGIN:VEVENT
UID:ed297885289865fd6fb8dd9465264b65
DTSTAMP:20260425T155317Z
SUMMARY:Wildessen (SG Densbüren-Asp) (1/2)
DESCRIPTION:https://www.sg-kuettigen.ch/kirchberg-schuetzenverband/kalender
 /wildessen-sg-densbueren-asp
DTSTART:20231028T180000
DTEND:20231028T220000
LOCATION:Schiessanlage Büelhalde\, Densbüren\, Cholhaldeweg\, 5026 Densb
 üren
ORGANIZER;CN=Schützengesellschaft Küttigen:mailto:info@sg-kuettigen.ch
END:VEVENT
BEGIN:VEVENT
UID:f2f3c990555e6a294a229a1b87dc6b96
DTSTAMP:20260425T155317Z
SUMMARY:Wildessen (SG Densbüren-Asp) (2/2)
DESCRIPTION:https://www.sg-kuettigen.ch/kirchberg-schuetzenverband/kalender
 /wildessen-sg-densbueren-asp
DTSTART:20231029T110000
DTEND:20231029T140000
LOCATION:Schiessanlage Büelhalde\, Densbüren\, Cholhaldeweg\, 5026 Densb
 üren
ORGANIZER;CN=Schützengesellschaft Küttigen:mailto:info@sg-kuettigen.ch
END:VEVENT
END:VCALENDAR
