BEGIN:VCALENDAR
PRODID:-//eluceo/ical//2.0/EN
VERSION:2.0
CALSCALE:GREGORIAN
BEGIN:VEVENT
UID:d2e71f81bd38236f5ce0cbc01ff06084
DTSTAMP:20260425T155206Z
SUMMARY:Delegiertenversammlung BSV Aarau
DESCRIPTION:https://www.sg-kuettigen.ch/kirchberg-schuetzenverband/kalender
 /delegiertenversammlung-bsv-aarau
DTSTART:20230303T200000
DTEND:20230303T220000
LOCATION:Regionale Schiessanlage Buchs\, Im Lostorf\, 5033 Buchs
ORGANIZER;CN=Schützengesellschaft Küttigen:mailto:info@sg-kuettigen.ch
END:VEVENT
END:VCALENDAR
