BEGIN:VCALENDAR
PRODID:-//eluceo/ical//2.0/EN
VERSION:2.0
CALSCALE:GREGORIAN
BEGIN:VEVENT
UID:ab7023e7ccbcae257d7c0070273cf1e6
DTSTAMP:20260425T154141Z
SUMMARY:Kirchbergschiessen 2019 (1/2)
DESCRIPTION:https://www.sg-kuettigen.ch/kalender/kirchbergschiessen-2019
DTSTART:20190511T133000
DTEND:20190511T153000
LOCATION:Schiessanlage Büelhalde\, Densbüren\, Cholhaldeweg\, 5026 Densb
 üren
ORGANIZER;CN=Schützengesellschaft Küttigen:mailto:info@sg-kuettigen.ch
END:VEVENT
BEGIN:VEVENT
UID:60ac910f245719c84ed60ce51553796a
DTSTAMP:20260425T154141Z
SUMMARY:Kirchbergschiessen 2019 (2/2)
DESCRIPTION:https://www.sg-kuettigen.ch/kalender/kirchbergschiessen-2019
DTSTART:20190512T093000
DTEND:20190512T113000
LOCATION:Schiessanlage Büelhalde\, Densbüren\, Cholhaldeweg\, 5026 Densb
 üren
ORGANIZER;CN=Schützengesellschaft Küttigen:mailto:info@sg-kuettigen.ch
END:VEVENT
END:VCALENDAR
