BEGIN:VCALENDAR
PRODID:-//eluceo/ical//2.0/EN
VERSION:2.0
CALSCALE:GREGORIAN
BEGIN:VEVENT
UID:4d7c533ab147fbae9a64077ca56a7a0e
DTSTAMP:20260425T154836Z
SUMMARY:Bezirksverbandschiessen\, SB Buchs (1/2)
DESCRIPTION:https://www.sg-kuettigen.ch/kalender/bezirksverbandschiessen-sb
 -buchs
DTSTART:20230902T090000
DTEND:20230902T110000
LOCATION:Regionale Schiessanlage Buchs\, Im Lostorf\, 5033 Buchs
ORGANIZER;CN=Schützengesellschaft Küttigen:mailto:info@sg-kuettigen.ch
END:VEVENT
BEGIN:VEVENT
UID:5057fa085559111e56946d0e016c89ef
DTSTAMP:20260425T154836Z
SUMMARY:Bezirksverbandschiessen\, SB Buchs (2/2)
DESCRIPTION:https://www.sg-kuettigen.ch/kalender/bezirksverbandschiessen-sb
 -buchs
DTSTART:20230908T173000
DTEND:20230908T193000
LOCATION:Regionale Schiessanlage Buchs\, Im Lostorf\, 5033 Buchs
ORGANIZER;CN=Schützengesellschaft Küttigen:mailto:info@sg-kuettigen.ch
END:VEVENT
END:VCALENDAR
