BEGIN:VCALENDAR
PRODID:-//eluceo/ical//2.0/EN
VERSION:2.0
CALSCALE:GREGORIAN
BEGIN:VEVENT
UID:0173f051c8e3afb4ac2a35d4617fcdfb
DTSTAMP:20260425T154613Z
SUMMARY:Freundschaftsschiessen
DESCRIPTION:https://www.sg-kuettigen.ch/jungschuetzen/kalender/freundschaft
 sschiessen
DTSTART:20230513T130000
DTEND:20230513T163000
LOCATION:Schiessanlage Büelhalde\, Densbüren\, Cholhaldeweg\, 5026 Densb
 üren
ORGANIZER;CN=Schützengesellschaft Küttigen:mailto:info@sg-kuettigen.ch
END:VEVENT
END:VCALENDAR
