BEGIN:VCALENDAR
PRODID:-//eluceo/ical//2.0/EN
VERSION:2.0
CALSCALE:GREGORIAN
BEGIN:VEVENT
UID:d35bc7d02af06b32e2b758dbc28c1afd
DTSTAMP:20260425T154928Z
SUMMARY:Vereinsreise
DESCRIPTION:https://www.sg-kuettigen.ch/kalender/vereinsreise
DTSTART:20230916T070000
DTEND:20230916T220000
LOCATION:Badi Küttigen\, Bollackerweg 30\, 5024 Küttigen
ORGANIZER;CN=Schützengesellschaft Küttigen:mailto:info@sg-kuettigen.ch
END:VEVENT
END:VCALENDAR
