BEGIN:VCALENDAR
PRODID:-//eluceo/ical//2.0/EN
VERSION:2.0
CALSCALE:GREGORIAN
BEGIN:VEVENT
UID:57f6f89d1513fde4f5e97382498948f8
DTSTAMP:20260425T154337Z
SUMMARY:Eidgenössisches Feldschiessen 2019 (1/3)
DESCRIPTION:https://www.sg-kuettigen.ch/kalender/eidgenoessisches-feldschie
 ssen-2019
DTSTART:20190525T090000
DTEND:20190525T120000
LOCATION:Schützenhaus Talmatt\, Küttigen\, Schützenhaus\, 5024 Küttigen
ORGANIZER;CN=Schützengesellschaft Küttigen:mailto:info@sg-kuettigen.ch
END:VEVENT
BEGIN:VEVENT
UID:52475fdbe79f3f7d5fa99ad596cb9955
DTSTAMP:20260425T154337Z
SUMMARY:Eidgenössisches Feldschiessen 2019 (2/3)
DESCRIPTION:https://www.sg-kuettigen.ch/kalender/eidgenoessisches-feldschie
 ssen-2019
DTSTART:20190525T133000
DTEND:20190525T160000
LOCATION:Schützenhaus Talmatt\, Küttigen\, Schützenhaus\, 5024 Küttigen
ORGANIZER;CN=Schützengesellschaft Küttigen:mailto:info@sg-kuettigen.ch
END:VEVENT
BEGIN:VEVENT
UID:e4c0af9d4fe09bd4c247dcc6a2dc43d8
DTSTAMP:20260425T154337Z
SUMMARY:Eidgenössisches Feldschiessen 2019 (3/3)
DESCRIPTION:https://www.sg-kuettigen.ch/kalender/eidgenoessisches-feldschie
 ssen-2019
DTSTART:20190526T090000
DTEND:20190526T113000
LOCATION:Schützenhaus Talmatt\, Küttigen\, Schützenhaus\, 5024 Küttigen
ORGANIZER;CN=Schützengesellschaft Küttigen:mailto:info@sg-kuettigen.ch
END:VEVENT
END:VCALENDAR
