BEGIN:VCALENDAR
PRODID:-//eluceo/ical//2.0/EN
VERSION:2.0
CALSCALE:GREGORIAN
BEGIN:VEVENT
UID:9485e1f8d2bdaf1e3da28dd2d670748b
DTSTAMP:20260425T152512Z
SUMMARY:Winterausmarsch
DESCRIPTION:https://www.sg-kuettigen.ch/kalender/winterausmarsch-2
DTSTART:20240316T130000
DTEND:20240316T180000
LOCATION:Schützenhaus Talmatt\, Küttigen\, Schützenhaus\, 5024 Küttigen
ORGANIZER;CN=Schützengesellschaft Küttigen:mailto:info@sg-kuettigen.ch
END:VEVENT
END:VCALENDAR
