BEGIN:VCALENDAR
PRODID:-//eluceo/ical//2.0/EN
VERSION:2.0
CALSCALE:GREGORIAN
BEGIN:VEVENT
UID:0f918b678834634a9c94a2aa51e869e0
DTSTAMP:20260425T154044Z
SUMMARY:35. Grenzschutzschiessen (1/5)
DESCRIPTION:https://www.sg-kuettigen.ch/kalender/35-grenzschutzschiessen
DTSTART:20240401T080000
DTEND:20240401T120000
LOCATION:Schützenhaus Münchwilen AG\, Hübel 24\, 4333 Münchwilen
ORGANIZER;CN=Schützengesellschaft Küttigen:mailto:info@sg-kuettigen.ch
END:VEVENT
BEGIN:VEVENT
UID:b2ce0182efd40b076e1db32f5ffc0b6e
DTSTAMP:20260425T154044Z
SUMMARY:35. Grenzschutzschiessen (2/5)
DESCRIPTION:https://www.sg-kuettigen.ch/kalender/35-grenzschutzschiessen
DTSTART:20240401T130000
DTEND:20240401T170000
LOCATION:Schützenhaus Münchwilen AG\, Hübel 24\, 4333 Münchwilen
ORGANIZER;CN=Schützengesellschaft Küttigen:mailto:info@sg-kuettigen.ch
END:VEVENT
BEGIN:VEVENT
UID:09d597ab7dab5c3248f1a1e367f68a43
DTSTAMP:20260425T154044Z
SUMMARY:35. Grenzschutzschiessen (3/5)
DESCRIPTION:https://www.sg-kuettigen.ch/kalender/35-grenzschutzschiessen
DTSTART:20240406T080000
DTEND:20240406T120000
LOCATION:Schützenhaus Münchwilen AG\, Hübel 24\, 4333 Münchwilen
ORGANIZER;CN=Schützengesellschaft Küttigen:mailto:info@sg-kuettigen.ch
END:VEVENT
BEGIN:VEVENT
UID:1e91345567638d448cdf228c7270de8d
DTSTAMP:20260425T154044Z
SUMMARY:35. Grenzschutzschiessen (4/5)
DESCRIPTION:https://www.sg-kuettigen.ch/kalender/35-grenzschutzschiessen
DTSTART:20240406T130000
DTEND:20240406T170000
LOCATION:Schützenhaus Münchwilen AG\, Hübel 24\, 4333 Münchwilen
ORGANIZER;CN=Schützengesellschaft Küttigen:mailto:info@sg-kuettigen.ch
END:VEVENT
BEGIN:VEVENT
UID:5a6de931990a4a8bbd8eca897de6d1e0
DTSTAMP:20260425T154044Z
SUMMARY:35. Grenzschutzschiessen (5/5)
DESCRIPTION:https://www.sg-kuettigen.ch/kalender/35-grenzschutzschiessen
DTSTART:20240407T080000
DTEND:20240407T120000
LOCATION:Schützenhaus Münchwilen AG\, Hübel 24\, 4333 Münchwilen
ORGANIZER;CN=Schützengesellschaft Küttigen:mailto:info@sg-kuettigen.ch
END:VEVENT
END:VCALENDAR
