BEGIN:VCALENDAR
PRODID:-//eluceo/ical//2.0/EN
VERSION:2.0
CALSCALE:GREGORIAN
BEGIN:VEVENT
UID:f4c9aa975444c95ffe735c883980c766
DTSTAMP:20260425T153411Z
SUMMARY:Training
DESCRIPTION:https://www.sg-kuettigen.ch/kalender/training-53
DTSTART:20240411T180000
DTEND:20240411T193000
LOCATION:Schützenhaus Talmatt\, Küttigen\, Schützenhaus\, 5024 Küttigen
ORGANIZER;CN=Schützengesellschaft Küttigen:mailto:info@sg-kuettigen.ch
END:VEVENT
END:VCALENDAR
