BEGIN:VCALENDAR
PRODID:-//eluceo/ical//2.0/EN
VERSION:2.0
CALSCALE:GREGORIAN
BEGIN:VEVENT
UID:9e40e3391dd33eeea8f3e56a2ace2cba
DTSTAMP:20260425T153409Z
SUMMARY:Tag der offenen Schützenhäuser
DESCRIPTION:https://www.sg-kuettigen.ch/kalender/tag-der-offenen-schuetzenh
 aeuser
DTSTART:20240413T090000
DTEND:20240413T120000
LOCATION:Schützenhaus Talmatt\, Küttigen\, Schützenhaus\, 5024 Küttigen
ORGANIZER;CN=Schützengesellschaft Küttigen:mailto:info@sg-kuettigen.ch
END:VEVENT
END:VCALENDAR
