BEGIN:VCALENDAR
PRODID:-//eluceo/ical//2.0/EN
VERSION:2.0
CALSCALE:GREGORIAN
BEGIN:VEVENT
UID:7e76abd399ce3ad3ff308fa17272ab0b
DTSTAMP:20260425T153231Z
SUMMARY:Frühlingscup
DESCRIPTION:https://www.sg-kuettigen.ch/kalender/fruehlingscup-1
DTSTART:20240413T130000
DTEND:20240413T153000
LOCATION:Schützenhaus Talmatt\, Küttigen\, Schützenhaus\, 5024 Küttigen
ORGANIZER;CN=Schützengesellschaft Küttigen:mailto:info@sg-kuettigen.ch
END:VEVENT
END:VCALENDAR
