BEGIN:VCALENDAR
PRODID:-//eluceo/ical//2.0/EN
VERSION:2.0
CALSCALE:GREGORIAN
BEGIN:VEVENT
UID:425621f00e69ddcbb4b29d5ab1cc7ffb
DTSTAMP:20260425T153916Z
SUMMARY:Schlussschiessen & Absenden Kirchbergmeisterschaft 2019
DESCRIPTION:https://www.sg-kuettigen.ch/kalender/schlussschiessen-absenden-
 kirchbergmeisterschaft-2019
DTSTART:20190824T090000
DTEND:20190824T130000
LOCATION:Schützenhaus Talmatt\, Küttigen\, Schützenhaus\, 5024 Küttigen
ORGANIZER;CN=Schützengesellschaft Küttigen:mailto:info@sg-kuettigen.ch
END:VEVENT
END:VCALENDAR
