BEGIN:VCALENDAR
PRODID:-//eluceo/ical//2.0/EN
VERSION:2.0
CALSCALE:GREGORIAN
BEGIN:VEVENT
UID:6f024d02af5d41e6add3cfecc72f800e
DTSTAMP:20260425T153846Z
SUMMARY:Eröffnungsschiessen Kirchbergmeisterschaft
DESCRIPTION:https://www.sg-kuettigen.ch/kirchberg-schuetzenverband/kalender
 /eroeffnungsschiessen-kirchbergmeisterschaft-0
DTSTART:20240427T090000
DTEND:20240427T110000
LOCATION:Schützenhaus Talmatt\, Küttigen\, Schützenhaus\, 5024 Küttigen
ORGANIZER;CN=Schützengesellschaft Küttigen:mailto:info@sg-kuettigen.ch
END:VEVENT
END:VCALENDAR
