BEGIN:VCALENDAR
PRODID:-//eluceo/ical//2.0/EN
VERSION:2.0
CALSCALE:GREGORIAN
BEGIN:VEVENT
UID:875d261580e258f67d7a47cb13d54b4f
DTSTAMP:20260425T154936Z
SUMMARY:1. Obligatorischer Schiesstag
DESCRIPTION:https://www.sg-kuettigen.ch/kalender/1-obligatorischer-schiesst
 ag-1
DTSTART:20240504T093000
DTEND:20240504T110000
LOCATION:Schützenhaus Talmatt\, Küttigen\, Schützenhaus\, 5024 Küttigen
ORGANIZER;CN=Schützengesellschaft Küttigen:mailto:info@sg-kuettigen.ch
END:VEVENT
END:VCALENDAR
