BEGIN:VCALENDAR
PRODID:-//eluceo/ical//2.0/EN
VERSION:2.0
CALSCALE:GREGORIAN
BEGIN:VEVENT
UID:5b54bec8c894ed135d664427fec81975
DTSTAMP:20260425T171719Z
SUMMARY:Kirchbergschiessen (1/2)
DESCRIPTION:https://www.sg-kuettigen.ch/kirchberg-schuetzenverband/kalender
 /kirchbergschiessen-0
DTSTART:20240504T133000
DTEND:20240504T153000
LOCATION:Schiessanlage Büelhalde\, Densbüren\, Cholhaldeweg\, 5026 Densb
 üren
ORGANIZER;CN=Schützengesellschaft Küttigen:mailto:info@sg-kuettigen.ch
END:VEVENT
BEGIN:VEVENT
UID:c07e6c8913ac60404374898dd841cfc9
DTSTAMP:20260425T171719Z
SUMMARY:Kirchbergschiessen (2/2)
DESCRIPTION:https://www.sg-kuettigen.ch/kirchberg-schuetzenverband/kalender
 /kirchbergschiessen-0
DTSTART:20240505T093000
DTEND:20240505T113000
LOCATION:Schiessanlage Büelhalde\, Densbüren\, Cholhaldeweg\, 5026 Densb
 üren
ORGANIZER;CN=Schützengesellschaft Küttigen:mailto:info@sg-kuettigen.ch
END:VEVENT
END:VCALENDAR
