BEGIN:VCALENDAR
PRODID:-//eluceo/ical//2.0/EN
VERSION:2.0
CALSCALE:GREGORIAN
BEGIN:VEVENT
UID:50d54f686cd6603bc3989639edaf5974
DTSTAMP:20260425T154346Z
SUMMARY:Vorschiessen Feldschiessen
DESCRIPTION:https://www.sg-kuettigen.ch/kirchberg-schuetzenverband/kalender
 /vorschiessen-feldschiessen-0
DTSTART:20240516T180000
DTEND:20240516T200000
LOCATION:Schützenhaus Talmatt\, Küttigen\, Schützenhaus\, 5024 Küttigen
ORGANIZER;CN=Schützengesellschaft Küttigen:mailto:info@sg-kuettigen.ch
END:VEVENT
END:VCALENDAR
