BEGIN:VCALENDAR
PRODID:-//eluceo/ical//2.0/EN
VERSION:2.0
CALSCALE:GREGORIAN
BEGIN:VEVENT
UID:e0d229d4bda275f65342fe0907866ae4
DTSTAMP:20260425T154926Z
SUMMARY:Eidgenössisches Feldschiessen (1/3)
DESCRIPTION:https://www.sg-kuettigen.ch/kirchberg-schuetzenverband/kalender
 /eidgenoessisches-feldschiessen-0
DTSTART:20240525T090000
DTEND:20240525T120000
LOCATION:Schützenhaus Talmatt\, Küttigen\, Schützenhaus\, 5024 Küttigen
ORGANIZER;CN=Schützengesellschaft Küttigen:mailto:info@sg-kuettigen.ch
END:VEVENT
BEGIN:VEVENT
UID:82c6280fe7d2c902236abef8e9bbcb3f
DTSTAMP:20260425T154926Z
SUMMARY:Eidgenössisches Feldschiessen (2/3)
DESCRIPTION:https://www.sg-kuettigen.ch/kirchberg-schuetzenverband/kalender
 /eidgenoessisches-feldschiessen-0
DTSTART:20240525T133000
DTEND:20240525T160000
LOCATION:Schützenhaus Talmatt\, Küttigen\, Schützenhaus\, 5024 Küttigen
ORGANIZER;CN=Schützengesellschaft Küttigen:mailto:info@sg-kuettigen.ch
END:VEVENT
BEGIN:VEVENT
UID:c55ee5f604c3090b761e0284dd8cae40
DTSTAMP:20260425T154926Z
SUMMARY:Eidgenössisches Feldschiessen (3/3)
DESCRIPTION:https://www.sg-kuettigen.ch/kirchberg-schuetzenverband/kalender
 /eidgenoessisches-feldschiessen-0
DTSTART:20240526T090000
DTEND:20240526T113000
LOCATION:Schützenhaus Talmatt\, Küttigen\, Schützenhaus\, 5024 Küttigen
ORGANIZER;CN=Schützengesellschaft Küttigen:mailto:info@sg-kuettigen.ch
END:VEVENT
END:VCALENDAR
