BEGIN:VCALENDAR
PRODID:-//eluceo/ical//2.0/EN
VERSION:2.0
CALSCALE:GREGORIAN
BEGIN:VEVENT
UID:ab5c6d7c027c87ab391e84e7cf9bbadb
DTSTAMP:20260425T153913Z
SUMMARY:1. Obligatorischer Schiesstag 2019
DESCRIPTION:https://www.sg-kuettigen.ch/kalender/1-obligatorischer-schiesst
 ag-2019
DTSTART:20190511T093000
DTEND:20190511T110000
LOCATION:Schützenhaus Talmatt\, Küttigen\, Schützenhaus\, 5024 Küttigen
ORGANIZER;CN=Schützengesellschaft Küttigen:mailto:info@sg-kuettigen.ch
END:VEVENT
END:VCALENDAR
