BEGIN:VCALENDAR
PRODID:-//eluceo/ical//2.0/EN
VERSION:2.0
CALSCALE:GREGORIAN
BEGIN:VEVENT
UID:e8f5153dc736953d25f015d29d84b6fe
DTSTAMP:20260425T154610Z
SUMMARY:Training
DESCRIPTION:https://www.sg-kuettigen.ch/kalender/training-56
DTSTART:20240606T180000
DTEND:20240606T200000
LOCATION:Schützenhaus Talmatt\, Küttigen\, Schützenhaus\, 5024 Küttigen
ORGANIZER;CN=Schützengesellschaft Küttigen:mailto:info@sg-kuettigen.ch
END:VEVENT
END:VCALENDAR
