BEGIN:VCALENDAR
PRODID:-//eluceo/ical//2.0/EN
VERSION:2.0
CALSCALE:GREGORIAN
BEGIN:VEVENT
UID:d973fca737def88e6d8d731259b6a191
DTSTAMP:20260425T153849Z
SUMMARY:Jubiläumsschiessen 125 Jahre FS Büblikon (1/6)
DESCRIPTION:https://www.sg-kuettigen.ch/kalender/jubilaeumsschiessen-125-ja
 hre-fs-bueblikon
DTSTART:20240607T163000
DTEND:20240607T200000
LOCATION:Schiessanlage Mühlescheer\, Wohlenschwil\, Birrharderweg\, 5512 W
 ohlenschwil
ORGANIZER;CN=Schützengesellschaft Küttigen:mailto:info@sg-kuettigen.ch
END:VEVENT
BEGIN:VEVENT
UID:a3a149296ca4cb97e3fb19293b36950f
DTSTAMP:20260425T153849Z
SUMMARY:Jubiläumsschiessen 125 Jahre FS Büblikon (2/6)
DESCRIPTION:https://www.sg-kuettigen.ch/kalender/jubilaeumsschiessen-125-ja
 hre-fs-bueblikon
DTSTART:20240608T090000
DTEND:20240608T120000
LOCATION:Schiessanlage Mühlescheer\, Wohlenschwil\, Birrharderweg\, 5512 W
 ohlenschwil
ORGANIZER;CN=Schützengesellschaft Küttigen:mailto:info@sg-kuettigen.ch
END:VEVENT
BEGIN:VEVENT
UID:13e5d2b4d093b6360809ffdba73f46e2
DTSTAMP:20260425T153849Z
SUMMARY:Jubiläumsschiessen 125 Jahre FS Büblikon (3/6)
DESCRIPTION:https://www.sg-kuettigen.ch/kalender/jubilaeumsschiessen-125-ja
 hre-fs-bueblikon
DTSTART:20240608T133000
DTEND:20240608T170000
LOCATION:Schiessanlage Mühlescheer\, Wohlenschwil\, Birrharderweg\, 5512 W
 ohlenschwil
ORGANIZER;CN=Schützengesellschaft Küttigen:mailto:info@sg-kuettigen.ch
END:VEVENT
BEGIN:VEVENT
UID:3496cc96d3e210eba964d15de5f0f875
DTSTAMP:20260425T153849Z
SUMMARY:Jubiläumsschiessen 125 Jahre FS Büblikon (4/6)
DESCRIPTION:https://www.sg-kuettigen.ch/kalender/jubilaeumsschiessen-125-ja
 hre-fs-bueblikon
DTSTART:20240615T090000
DTEND:20240615T120000
LOCATION:Schiessanlage Mühlescheer\, Wohlenschwil\, Birrharderweg\, 5512 W
 ohlenschwil
ORGANIZER;CN=Schützengesellschaft Küttigen:mailto:info@sg-kuettigen.ch
END:VEVENT
BEGIN:VEVENT
UID:0f19515b4eb2382624f470bf24a83a6c
DTSTAMP:20260425T153849Z
SUMMARY:Jubiläumsschiessen 125 Jahre FS Büblikon (5/6)
DESCRIPTION:https://www.sg-kuettigen.ch/kalender/jubilaeumsschiessen-125-ja
 hre-fs-bueblikon
DTSTART:20240615T133000
DTEND:20240615T170000
LOCATION:Schiessanlage Mühlescheer\, Wohlenschwil\, Birrharderweg\, 5512 W
 ohlenschwil
ORGANIZER;CN=Schützengesellschaft Küttigen:mailto:info@sg-kuettigen.ch
END:VEVENT
BEGIN:VEVENT
UID:f6ab74e36446f308eab7e88db776b586
DTSTAMP:20260425T153849Z
SUMMARY:Jubiläumsschiessen 125 Jahre FS Büblikon (6/6)
DESCRIPTION:https://www.sg-kuettigen.ch/kalender/jubilaeumsschiessen-125-ja
 hre-fs-bueblikon
DTSTART:20240616T080000
DTEND:20240616T120000
LOCATION:Schiessanlage Mühlescheer\, Wohlenschwil\, Birrharderweg\, 5512 W
 ohlenschwil
ORGANIZER;CN=Schützengesellschaft Küttigen:mailto:info@sg-kuettigen.ch
END:VEVENT
END:VCALENDAR
