BEGIN:VCALENDAR
PRODID:-//eluceo/ical//2.0/EN
VERSION:2.0
CALSCALE:GREGORIAN
BEGIN:VEVENT
UID:611001639c0fb805d5883c1425b62182
DTSTAMP:20260425T154558Z
SUMMARY:Bezirksverbandschiessen\, AS Aarau (1/2)
DESCRIPTION:https://www.sg-kuettigen.ch/kalender/bezirksverbandschiessen-aa
 rau
DTSTART:20240613T170000
DTEND:20240613T193000
LOCATION:Regionale Schiessanlage Buchs\, Im Lostorf\, 5033 Buchs
ORGANIZER;CN=Schützengesellschaft Küttigen:mailto:info@sg-kuettigen.ch
END:VEVENT
BEGIN:VEVENT
UID:4b4fc8d9efb4aa4f6a0f46e69bc4d28f
DTSTAMP:20260425T154558Z
SUMMARY:Bezirksverbandschiessen\, AS Aarau (2/2)
DESCRIPTION:https://www.sg-kuettigen.ch/kalender/bezirksverbandschiessen-aa
 rau
DTSTART:20240629T083000
DTEND:20240629T113000
LOCATION:Regionale Schiessanlage Buchs\, Im Lostorf\, 5033 Buchs
ORGANIZER;CN=Schützengesellschaft Küttigen:mailto:info@sg-kuettigen.ch
END:VEVENT
END:VCALENDAR
