BEGIN:VCALENDAR
PRODID:-//eluceo/ical//2.0/EN
VERSION:2.0
CALSCALE:GREGORIAN
BEGIN:VEVENT
UID:c02b5c42654b94825533abd79a5f1c23
DTSTAMP:20260425T153123Z
SUMMARY:Training
DESCRIPTION:https://www.sg-kuettigen.ch/kalender/training-57
DTSTART:20240615T090000
DTEND:20240615T110000
LOCATION:Schützenhaus Talmatt\, Küttigen\, Schützenhaus\, 5024 Küttigen
ORGANIZER;CN=Schützengesellschaft Küttigen:mailto:info@sg-kuettigen.ch
END:VEVENT
END:VCALENDAR
