BEGIN:VCALENDAR
PRODID:-//eluceo/ical//2.0/EN
VERSION:2.0
CALSCALE:GREGORIAN
BEGIN:VEVENT
UID:d9b860fd07541c35c52471c32304da3c
DTSTAMP:20260425T153048Z
SUMMARY:18. Rotkornschiessen (1/7)
DESCRIPTION:https://www.sg-kuettigen.ch/kalender/18-rotkornschiessen
DTSTART:20240809T170000
DTEND:20240809T200000
LOCATION:Schützenhaus Oberkulm\, Schützenweg\, 5727 Oberkulm
ORGANIZER;CN=Schützengesellschaft Küttigen:mailto:info@sg-kuettigen.ch
END:VEVENT
BEGIN:VEVENT
UID:15ffc8350bc8f5bcc77f76cd1b4da69e
DTSTAMP:20260425T153048Z
SUMMARY:18. Rotkornschiessen (2/7)
DESCRIPTION:https://www.sg-kuettigen.ch/kalender/18-rotkornschiessen
DTSTART:20240810T090000
DTEND:20240810T120000
LOCATION:Schützenhaus Oberkulm\, Schützenweg\, 5727 Oberkulm
ORGANIZER;CN=Schützengesellschaft Küttigen:mailto:info@sg-kuettigen.ch
END:VEVENT
BEGIN:VEVENT
UID:b6fb09e568b378e2fa638f85dad98c48
DTSTAMP:20260425T153048Z
SUMMARY:18. Rotkornschiessen (3/7)
DESCRIPTION:https://www.sg-kuettigen.ch/kalender/18-rotkornschiessen
DTSTART:20240810T133000
DTEND:20240810T160000
LOCATION:Schützenhaus Oberkulm\, Schützenweg\, 5727 Oberkulm
ORGANIZER;CN=Schützengesellschaft Küttigen:mailto:info@sg-kuettigen.ch
END:VEVENT
BEGIN:VEVENT
UID:64ad61f007da0a0fb9caf54ee88932f3
DTSTAMP:20260425T153048Z
SUMMARY:18. Rotkornschiessen (4/7)
DESCRIPTION:https://www.sg-kuettigen.ch/kalender/18-rotkornschiessen
DTSTART:20240811T090000
DTEND:20240811T120000
LOCATION:Schützenhaus Oberkulm\, Schützenweg\, 5727 Oberkulm
ORGANIZER;CN=Schützengesellschaft Küttigen:mailto:info@sg-kuettigen.ch
END:VEVENT
BEGIN:VEVENT
UID:e636b92b3c3aea92819f420e838dd862
DTSTAMP:20260425T153048Z
SUMMARY:18. Rotkornschiessen (5/7)
DESCRIPTION:https://www.sg-kuettigen.ch/kalender/18-rotkornschiessen
DTSTART:20240823T170000
DTEND:20240823T200000
LOCATION:Schützenhaus Oberkulm\, Schützenweg\, 5727 Oberkulm
ORGANIZER;CN=Schützengesellschaft Küttigen:mailto:info@sg-kuettigen.ch
END:VEVENT
BEGIN:VEVENT
UID:7f6865ea9e04c4daa85f64f35cb2c020
DTSTAMP:20260425T153048Z
SUMMARY:18. Rotkornschiessen (6/7)
DESCRIPTION:https://www.sg-kuettigen.ch/kalender/18-rotkornschiessen
DTSTART:20240824T090000
DTEND:20240824T120000
LOCATION:Schützenhaus Oberkulm\, Schützenweg\, 5727 Oberkulm
ORGANIZER;CN=Schützengesellschaft Küttigen:mailto:info@sg-kuettigen.ch
END:VEVENT
BEGIN:VEVENT
UID:f36729b07b0391c8f388ef3f2b2c5ef0
DTSTAMP:20260425T153048Z
SUMMARY:18. Rotkornschiessen (7/7)
DESCRIPTION:https://www.sg-kuettigen.ch/kalender/18-rotkornschiessen
DTSTART:20240824T133000
DTEND:20240824T160000
LOCATION:Schützenhaus Oberkulm\, Schützenweg\, 5727 Oberkulm
ORGANIZER;CN=Schützengesellschaft Küttigen:mailto:info@sg-kuettigen.ch
END:VEVENT
END:VCALENDAR
