BEGIN:VCALENDAR
PRODID:-//eluceo/ical//2.0/EN
VERSION:2.0
CALSCALE:GREGORIAN
BEGIN:VEVENT
UID:2bf6746333be638f092277ed20ddbc9b
DTSTAMP:20260425T154056Z
SUMMARY:Vereinsobligatorisch mit Bräteln
DESCRIPTION:https://www.sg-kuettigen.ch/kalender/vereinsobligatorisch-mit-b
 raeteln-4
DTSTART:20240810T093000
DTEND:20240810T110000
LOCATION:Schützenhaus Talmatt\, Küttigen\, Schützenhaus\, 5024 Küttigen
ORGANIZER;CN=Schützengesellschaft Küttigen:mailto:info@sg-kuettigen.ch
END:VEVENT
END:VCALENDAR
