BEGIN:VCALENDAR
PRODID:-//eluceo/ical//2.0/EN
VERSION:2.0
CALSCALE:GREGORIAN
BEGIN:VEVENT
UID:040d7c2eeb5b74ca78b22d78c3f22e0b
DTSTAMP:20260425T154339Z
SUMMARY:Training & Vorschiessen KMS
DESCRIPTION:https://www.sg-kuettigen.ch/kirchberg-schuetzenverband/kalender
 /training-vorschiessen-kms-2
DTSTART:20240822T180000
DTEND:20240822T193000
LOCATION:Schützenhaus Talmatt\, Küttigen\, Schützenhaus\, 5024 Küttigen
ORGANIZER;CN=Schützengesellschaft Küttigen:mailto:info@sg-kuettigen.ch
END:VEVENT
END:VCALENDAR
