BEGIN:VCALENDAR
PRODID:-//eluceo/ical//2.0/EN
VERSION:2.0
CALSCALE:GREGORIAN
BEGIN:VEVENT
UID:3201a72f2c58ef9fda163ca10428910f
DTSTAMP:20260425T152731Z
SUMMARY:2. Obligatorischer Schiesstag 2019
DESCRIPTION:https://www.sg-kuettigen.ch/kalender/2-obligatorischer-schiesst
 ag-2019
DTSTART:20190829T180000
DTEND:20190829T200000
LOCATION:Schützenhaus Talmatt\, Küttigen\, Schützenhaus\, 5024 Küttigen
ORGANIZER;CN=Schützengesellschaft Küttigen:mailto:info@sg-kuettigen.ch
END:VEVENT
END:VCALENDAR
