BEGIN:VCALENDAR
PRODID:-//eluceo/ical//2.0/EN
VERSION:2.0
CALSCALE:GREGORIAN
BEGIN:VEVENT
UID:a58623cfec67e67b6627f9c30364d5db
DTSTAMP:20260425T153847Z
SUMMARY:Schlussschiessen Kirchbergmeisterschaft & Absenden
DESCRIPTION:https://www.sg-kuettigen.ch/kirchberg-schuetzenverband/kalender
 /schlussschiessen-kirchbergmeisterschaft-absenden-0
DTSTART:20240824T090000
DTEND:20240824T110000
LOCATION:Schützenhaus Talmatt\, Küttigen\, Schützenhaus\, 5024 Küttigen
ORGANIZER;CN=Schützengesellschaft Küttigen:mailto:info@sg-kuettigen.ch
END:VEVENT
END:VCALENDAR
