BEGIN:VCALENDAR
PRODID:-//eluceo/ical//2.0/EN
VERSION:2.0
CALSCALE:GREGORIAN
BEGIN:VEVENT
UID:a837d10acf1fbf387fc9d30837427a64
DTSTAMP:20260425T154423Z
SUMMARY:2. Obligatorischer Schiesstag
DESCRIPTION:https://www.sg-kuettigen.ch/kalender/2-obligatorischer-schiesst
 ag-1
DTSTART:20240829T180000
DTEND:20240829T193000
LOCATION:Schützenhaus Talmatt\, Küttigen\, Schützenhaus\, 5024 Küttigen
ORGANIZER;CN=Schützengesellschaft Küttigen:mailto:info@sg-kuettigen.ch
END:VEVENT
END:VCALENDAR
