BEGIN:VCALENDAR
PRODID:-//eluceo/ical//2.0/EN
VERSION:2.0
CALSCALE:GREGORIAN
BEGIN:VEVENT
UID:1b739dcd3dacdea11f5ba162bd4695c2
DTSTAMP:20260425T152527Z
SUMMARY:Training
DESCRIPTION:https://www.sg-kuettigen.ch/kalender/training-61
DTSTART:20240905T180000
DTEND:20240905T193000
LOCATION:Schützenhaus Talmatt\, Küttigen\, Schützenhaus\, 5024 Küttigen
ORGANIZER;CN=Schützengesellschaft Küttigen:mailto:info@sg-kuettigen.ch
END:VEVENT
END:VCALENDAR
