BEGIN:VCALENDAR
PRODID:-//eluceo/ical//2.0/EN
VERSION:2.0
CALSCALE:GREGORIAN
BEGIN:VEVENT
UID:91ff87b9693b253c0cb93066f2361149
DTSTAMP:20260425T155157Z
SUMMARY:Plauschmatch mit Gewerbeverein\, Apéro und Abendessen
DESCRIPTION:https://www.sg-kuettigen.ch/kalender/plauschmatch-mit-gewerbeve
 rein-apero-und-abendessen
DTSTART:20240914T140000
DTEND:20240914T200000
LOCATION:Schützenhaus Talmatt\, Küttigen\, Schützenhaus\, 5024 Küttigen
ORGANIZER;CN=Schützengesellschaft Küttigen:mailto:info@sg-kuettigen.ch
END:VEVENT
END:VCALENDAR
