BEGIN:VCALENDAR
PRODID:-//eluceo/ical//2.0/EN
VERSION:2.0
CALSCALE:GREGORIAN
BEGIN:VEVENT
UID:0815971fa86c58bf498ca085aff955d6
DTSTAMP:20260425T153002Z
SUMMARY:Endschiessen (1/2)
DESCRIPTION:https://www.sg-kuettigen.ch/kalender/endschiessen-4
DTSTART:20240921T090000
DTEND:20240921T120000
LOCATION:Schützenhaus Talmatt\, Küttigen\, Schützenhaus\, 5024 Küttigen
ORGANIZER;CN=Schützengesellschaft Küttigen:mailto:info@sg-kuettigen.ch
END:VEVENT
BEGIN:VEVENT
UID:35d92b86c8cb3dab3b470e1214d5f27f
DTSTAMP:20260425T153002Z
SUMMARY:Endschiessen (2/2)
DESCRIPTION:https://www.sg-kuettigen.ch/kalender/endschiessen-4
DTSTART:20240929T090000
DTEND:20240929T120000
LOCATION:Schützenhaus Talmatt\, Küttigen\, Schützenhaus\, 5024 Küttigen
ORGANIZER;CN=Schützengesellschaft Küttigen:mailto:info@sg-kuettigen.ch
END:VEVENT
END:VCALENDAR
