BEGIN:VCALENDAR
PRODID:-//eluceo/ical//2.0/EN
VERSION:2.0
CALSCALE:GREGORIAN
BEGIN:VEVENT
UID:d67adcb821102b6a487ebb178eb214d6
DTSTAMP:20260425T154506Z
SUMMARY:372. Toggenburger Landschiessen
DESCRIPTION:https://www.sg-kuettigen.ch/kalender/372-toggenburger-landschie
 ssen
DTSTART:20241005T100000
DTEND:20241005T170000
LOCATION:Schützenhaus Lichtensteig\, Schabeggweg\, 9620 Lichtensteig
ORGANIZER;CN=Schützengesellschaft Küttigen:mailto:info@sg-kuettigen.ch
END:VEVENT
END:VCALENDAR
