BEGIN:VCALENDAR
PRODID:-//eluceo/ical//2.0/EN
VERSION:2.0
CALSCALE:GREGORIAN
BEGIN:VEVENT
UID:9b289c47b832db25d5fa082369cec05f
DTSTAMP:20260425T154213Z
SUMMARY:Hock Ehrenmitglieder
DESCRIPTION:https://www.sg-kuettigen.ch/kalender/hock-ehrenmitglieder-3
DTSTART:20241011T190000
DTEND:20241011T220000
LOCATION:Schützenhaus Talmatt\, Küttigen\, Schützenhaus\, 5024 Küttigen
ORGANIZER;CN=Schützengesellschaft Küttigen:mailto:info@sg-kuettigen.ch
END:VEVENT
END:VCALENDAR
