BEGIN:VCALENDAR
PRODID:-//eluceo/ical//2.0/EN
VERSION:2.0
CALSCALE:GREGORIAN
BEGIN:VEVENT
UID:3b146970ee603067b0a0927ea71054cd
DTSTAMP:20260425T152649Z
SUMMARY:Absenden
DESCRIPTION:https://www.sg-kuettigen.ch/kalender/absenden-3
DTSTART:20241116T190000
DTEND:20241116T230000
LOCATION:Restaurant Traube\, Küttigen\, Hauptstrasse 58\, 5024 Küttigen
ORGANIZER;CN=Schützengesellschaft Küttigen:mailto:info@sg-kuettigen.ch
END:VEVENT
END:VCALENDAR
