BEGIN:VCALENDAR
PRODID:-//eluceo/ical//2.0/EN
VERSION:2.0
CALSCALE:GREGORIAN
BEGIN:VEVENT
UID:af4fbab454221e9219b7e567d17ff5e5
DTSTAMP:20260425T153124Z
SUMMARY:Neujahrsapéro
DESCRIPTION:https://www.sg-kuettigen.ch/kalender/neujahrsapero-1
DTSTART:20250102T110000
DTEND:20250102T140000
LOCATION:Schützenhaus Talmatt\, Küttigen\, Schützenhaus\, 5024 Küttigen
ORGANIZER;CN=Schützengesellschaft Küttigen:mailto:info@sg-kuettigen.ch
END:VEVENT
END:VCALENDAR
