BEGIN:VCALENDAR
PRODID:-//eluceo/ical//2.0/EN
VERSION:2.0
CALSCALE:GREGORIAN
BEGIN:VEVENT
UID:36cb98de6062c975ee16ea90f62b443f
DTSTAMP:20260425T153119Z
SUMMARY:Theorieabend mit Gewehrabgabe
DESCRIPTION:https://www.sg-kuettigen.ch/jungschuetzen/kalender/theorieabend
 -mit-gewehrabgabe-0
DTSTART:20240322T190000
DTEND:20240322T220000
LOCATION:Schützenhaus Talmatt\, Küttigen\, Schützenhaus\, 5024 Küttigen
ORGANIZER;CN=Schützengesellschaft Küttigen:mailto:info@sg-kuettigen.ch
END:VEVENT
END:VCALENDAR
