BEGIN:VCALENDAR
PRODID:-//eluceo/ical//2.0/EN
VERSION:2.0
CALSCALE:GREGORIAN
BEGIN:VEVENT
UID:740fcae856e63e71dbbfd1b01755c425
DTSTAMP:20260425T155234Z
SUMMARY:2. Schiesstag: Belehrungsschiesen
DESCRIPTION:https://www.sg-kuettigen.ch/jungschuetzen/kalender/2-schiesstag
 -belehrungsschiesen
DTSTART:20240330T133000
DTEND:20240330T163000
LOCATION:Schützenhaus Talmatt\, Küttigen\, Schützenhaus\, 5024 Küttigen
ORGANIZER;CN=Schützengesellschaft Küttigen:mailto:info@sg-kuettigen.ch
END:VEVENT
END:VCALENDAR
