BEGIN:VCALENDAR
PRODID:-//eluceo/ical//2.0/EN
VERSION:2.0
CALSCALE:GREGORIAN
BEGIN:VEVENT
UID:230bcf8611d7048cc024520af4bb1d1f
DTSTAMP:20260425T155233Z
SUMMARY:3. Schiesstag: Belehrungsschiesen\, Präzisionsschiessen
DESCRIPTION:https://www.sg-kuettigen.ch/jungschuetzen/kalender/3-schiesstag
 -belehrungsschiesen-praezisionsschiessen
DTSTART:20240406T133000
DTEND:20240406T163000
LOCATION:Schützenhaus Talmatt\, Küttigen\, Schützenhaus\, 5024 Küttigen
ORGANIZER;CN=Schützengesellschaft Küttigen:mailto:info@sg-kuettigen.ch
END:VEVENT
END:VCALENDAR
