BEGIN:VCALENDAR
PRODID:-//eluceo/ical//2.0/EN
VERSION:2.0
CALSCALE:GREGORIAN
BEGIN:VEVENT
UID:29d7c25beb2b3abda60b60da6b4d9e7d
DTSTAMP:20260425T154055Z
SUMMARY:4. Schiesstag: Präzisionsschiessen\, Prüfungsschiessen
DESCRIPTION:https://www.sg-kuettigen.ch/jungschuetzen/kalender/4-schiesstag
 -praezisionsschiessen-pruefungsschiessen-0
DTSTART:20240420T133000
DTEND:20240420T163000
LOCATION:Schützenhaus Talmatt\, Küttigen\, Schützenhaus\, 5024 Küttigen
ORGANIZER;CN=Schützengesellschaft Küttigen:mailto:info@sg-kuettigen.ch
END:VEVENT
END:VCALENDAR
