BEGIN:VCALENDAR
PRODID:-//eluceo/ical//2.0/EN
VERSION:2.0
CALSCALE:GREGORIAN
BEGIN:VEVENT
UID:1f216a9c79e07f003113945e6f419423
DTSTAMP:20260425T171623Z
SUMMARY:5. Schiesstag: Obligatorisches\, JS-Stich
DESCRIPTION:https://www.sg-kuettigen.ch/jungschuetzen/kalender/5-schiesstag
 -obligatorisches-js-stich-0
DTSTART:20240427T133000
DTEND:20240427T163000
LOCATION:Schützenhaus Talmatt\, Küttigen\, Schützenhaus\, 5024 Küttigen
ORGANIZER;CN=Schützengesellschaft Küttigen:mailto:info@sg-kuettigen.ch
END:VEVENT
END:VCALENDAR
