BEGIN:VCALENDAR
PRODID:-//eluceo/ical//2.0/EN
VERSION:2.0
CALSCALE:GREGORIAN
BEGIN:VEVENT
UID:c4bde95bd23b077c67c3fadbcc0bd38f
DTSTAMP:20260425T154821Z
SUMMARY:Freundschaftsschiessen mit SG Densbüren-Asp
DESCRIPTION:https://www.sg-kuettigen.ch/jungschuetzen/kalender/freundschaft
 sschiessen-mit-sg-densbueren-asp
DTSTART:20240511T133000
DTEND:20240511T163000
LOCATION:Schützenhaus Talmatt\, Küttigen\, Schützenhaus\, 5024 Küttigen
ORGANIZER;CN=Schützengesellschaft Küttigen:mailto:info@sg-kuettigen.ch
END:VEVENT
END:VCALENDAR
