BEGIN:VCALENDAR
PRODID:-//eluceo/ical//2.0/EN
VERSION:2.0
CALSCALE:GREGORIAN
BEGIN:VEVENT
UID:6163fdb7772ac46dece861e02b6acdfb
DTSTAMP:20260425T154344Z
SUMMARY:Kurstag Jungschützen
DESCRIPTION:https://www.sg-kuettigen.ch/jungschuetzen/kalender/kurstag-jung
 schuetzen-0
DTSTART:20240518T090000
DTEND:20240518T160000
LOCATION:Schützenhaus Talmatt\, Küttigen\, Schützenhaus\, 5024 Küttigen
ORGANIZER;CN=Schützengesellschaft Küttigen:mailto:info@sg-kuettigen.ch
END:VEVENT
END:VCALENDAR
