BEGIN:VCALENDAR
PRODID:-//eluceo/ical//2.0/EN
VERSION:2.0
CALSCALE:GREGORIAN
BEGIN:VEVENT
UID:caff331bd279604aabd9b85b4d467118
DTSTAMP:20260425T154211Z
SUMMARY:6. Schiesstag: Feldschiessen-Training
DESCRIPTION:https://www.sg-kuettigen.ch/jungschuetzen/kalender/6-schiesstag
 -feldschiessen-training-0
DTSTART:20240523T174500
DTEND:20240523T200000
LOCATION:Schützenhaus Talmatt\, Küttigen\, Schützenhaus\, 5024 Küttigen
ORGANIZER;CN=Schützengesellschaft Küttigen:mailto:info@sg-kuettigen.ch
END:VEVENT
END:VCALENDAR
