BEGIN:VCALENDAR
PRODID:-//eluceo/ical//2.0/EN
VERSION:2.0
CALSCALE:GREGORIAN
BEGIN:VEVENT
UID:781ac13ae908f11edf1033e976839c45
DTSTAMP:20260425T154140Z
SUMMARY:7. Schiesstag: Hauptschiessen\, Wettkampfschiessen
DESCRIPTION:https://www.sg-kuettigen.ch/jungschuetzen/kalender/7-schiesstag
 -hauptschiessen-wettkampfschiessen-0
DTSTART:20240601T133000
DTEND:20240601T163000
LOCATION:Schützenhaus Talmatt\, Küttigen\, Schützenhaus\, 5024 Küttigen
ORGANIZER;CN=Schützengesellschaft Küttigen:mailto:info@sg-kuettigen.ch
END:VEVENT
END:VCALENDAR
