BEGIN:VCALENDAR
PRODID:-//eluceo/ical//2.0/EN
VERSION:2.0
CALSCALE:GREGORIAN
BEGIN:VEVENT
UID:8b4b8f49c46cace40d46cf2f1ca1f1d3
DTSTAMP:20260425T155043Z
SUMMARY:8. Schiesstag: Hauptschiessen\, JS-Stich\, Nachschiessen
DESCRIPTION:https://www.sg-kuettigen.ch/jungschuetzen/kalender/8-schiesstag
 -hauptschiessen-js-stich-nachschiessen
DTSTART:20240615T133000
DTEND:20240615T163000
LOCATION:Schützenhaus Talmatt\, Küttigen\, Schützenhaus\, 5024 Küttigen
ORGANIZER;CN=Schützengesellschaft Küttigen:mailto:info@sg-kuettigen.ch
END:VEVENT
END:VCALENDAR
