BEGIN:VCALENDAR
PRODID:-//eluceo/ical//2.0/EN
VERSION:2.0
CALSCALE:GREGORIAN
BEGIN:VEVENT
UID:e5f0b411a5c3d510a083f60825591419
DTSTAMP:20260425T152833Z
SUMMARY:Jungschützen-Cup
DESCRIPTION:https://www.sg-kuettigen.ch/jungschuetzen/kalender/jungschuetze
 n-cup-0
DTSTART:20240622T133000
DTEND:20240622T163000
LOCATION:Schützenhaus Talmatt\, Küttigen\, Schützenhaus\, 5024 Küttigen
ORGANIZER;CN=Schützengesellschaft Küttigen:mailto:info@sg-kuettigen.ch
END:VEVENT
END:VCALENDAR
