BEGIN:VCALENDAR
PRODID:-//eluceo/ical//2.0/EN
VERSION:2.0
CALSCALE:GREGORIAN
BEGIN:VEVENT
UID:0dbf5d80d979fc85454d3e74ea2caf56
DTSTAMP:20260425T155204Z
SUMMARY:Gewehrputzen\, Gewehrabgabe
DESCRIPTION:https://www.sg-kuettigen.ch/jungschuetzen/kalender/gewehrputzen
 -gewehrabgabe-0
DTSTART:20240928T133000
DTEND:20240928T163000
LOCATION:Schützenhaus Talmatt\, Küttigen\, Schützenhaus\, 5024 Küttigen
ORGANIZER;CN=Schützengesellschaft Küttigen:mailto:info@sg-kuettigen.ch
END:VEVENT
END:VCALENDAR
